BEGIN:VCALENDAR
PRODID:-//eluceo/ical//2.0/EN
VERSION:2.0
CALSCALE:GREGORIAN
BEGIN:VEVENT
UID:e5cee8a79ee8a7c77ffef0c719730edb
DTSTAMP:20260419T124708Z
SUMMARY:Pillion
DTSTART;TZID=Europe/Prague:20260322T171500
DTEND;TZID=Europe/Prague:20260322T185800
LOCATION:Kino Aero
END:VEVENT
END:VCALENDAR
BEGIN:VCALENDAR
PRODID:-//eluceo/ical//2.0/EN
VERSION:2.0
CALSCALE:GREGORIAN
BEGIN:VEVENT
UID:9816502ce0402962c6efa1b9c4cb83a6
DTSTAMP:20260419T124708Z
SUMMARY:Pillion
DTSTART;TZID=Europe/Prague:20260322T171500
DTEND;TZID=Europe/Prague:20260322T185800
LOCATION:Kino Aero
END:VEVENT
END:VCALENDAR
