BEGIN:VCALENDAR
PRODID:-//eluceo/ical//2.0/EN
VERSION:2.0
CALSCALE:GREGORIAN
BEGIN:VEVENT
UID:5a00f3050d0ce089be08e71b5ce2c06c
DTSTAMP:20260421T162214Z
SUMMARY:Něco divokého
DTSTART;TZID=Europe/Prague:20260424T173100
DTEND;TZID=Europe/Prague:20260424T192400
LOCATION:Kino Aero
END:VEVENT
END:VCALENDAR
BEGIN:VCALENDAR
PRODID:-//eluceo/ical//2.0/EN
VERSION:2.0
CALSCALE:GREGORIAN
BEGIN:VEVENT
UID:671b96af04ba9e35a61825a04373c797
DTSTAMP:20260421T162214Z
SUMMARY:Něco divokého
DTSTART;TZID=Europe/Prague:20260424T173100
DTEND;TZID=Europe/Prague:20260424T192400
LOCATION:Kino Aero
END:VEVENT
END:VCALENDAR
