BEGIN:VCALENDAR
PRODID:-//eluceo/ical//2.0/EN
VERSION:2.0
CALSCALE:GREGORIAN
BEGIN:VEVENT
UID:005cea00e9e7a5f8a7a3e9e52ea79bc8
DTSTAMP:20260421T034954Z
SUMMARY:Space Adventure Cobra
DTSTART;TZID=Europe/Prague:20260429T203000
DTEND;TZID=Europe/Prague:20260429T220900
LOCATION:Kino Aero
END:VEVENT
END:VCALENDAR
BEGIN:VCALENDAR
PRODID:-//eluceo/ical//2.0/EN
VERSION:2.0
CALSCALE:GREGORIAN
BEGIN:VEVENT
UID:4b8f6b2d88aad32711f09183f6165429
DTSTAMP:20260421T034954Z
SUMMARY:Space Adventure Cobra
DTSTART;TZID=Europe/Prague:20260429T203000
DTEND;TZID=Europe/Prague:20260429T220900
LOCATION:Kino Aero
END:VEVENT
END:VCALENDAR
