BEGIN:VCALENDAR
PRODID:-//eluceo/ical//2.0/EN
VERSION:2.0
CALSCALE:GREGORIAN
BEGIN:VEVENT
UID:23730c8bc2abe0f0a78a6ea85f302344
DTSTAMP:20260421T165317Z
SUMMARY:Pán prstenů: Návrat krále – prodloužená verze
DTSTART;TZID=Europe/Prague:20260425T193000
DTEND;TZID=Europe/Prague:20260425T235300
LOCATION:Kino Aero
END:VEVENT
END:VCALENDAR
BEGIN:VCALENDAR
PRODID:-//eluceo/ical//2.0/EN
VERSION:2.0
CALSCALE:GREGORIAN
BEGIN:VEVENT
UID:50d7101f0d97e5aabdfa962bcdde3350
DTSTAMP:20260421T165317Z
SUMMARY:Pán prstenů: Návrat krále – prodloužená verze
DTSTART;TZID=Europe/Prague:20260425T193000
DTEND;TZID=Europe/Prague:20260425T235300
LOCATION:Kino Aero
END:VEVENT
END:VCALENDAR
