BEGIN:VCALENDAR
PRODID:-//eluceo/ical//2.0/EN
VERSION:2.0
CALSCALE:GREGORIAN
BEGIN:VEVENT
UID:c2cb4593ebae14e1d4d9a20c634b740f
DTSTAMP:20260421T170759Z
SUMMARY:Pán prstenů: Dvě věže – prodloužená verze
DTSTART;TZID=Europe/Prague:20260425T150000
DTEND;TZID=Europe/Prague:20260425T185500
LOCATION:Kino Aero
END:VEVENT
END:VCALENDAR
BEGIN:VCALENDAR
PRODID:-//eluceo/ical//2.0/EN
VERSION:2.0
CALSCALE:GREGORIAN
BEGIN:VEVENT
UID:608d770aa2fb2f93251fe8cba0e92179
DTSTAMP:20260421T170759Z
SUMMARY:Pán prstenů: Dvě věže – prodloužená verze
DTSTART;TZID=Europe/Prague:20260425T150000
DTEND;TZID=Europe/Prague:20260425T185500
LOCATION:Kino Aero
END:VEVENT
END:VCALENDAR
