BEGIN:VCALENDAR
PRODID:-//eluceo/ical//2.0/EN
VERSION:2.0
CALSCALE:GREGORIAN
BEGIN:VEVENT
UID:835a95b82129b889a12e3c4bdeac97d8
DTSTAMP:20260421T165441Z
SUMMARY:Pán prstenů: Společenstvo Prstenu – prodloužená verze
DTSTART;TZID=Europe/Prague:20260425T103100
DTEND;TZID=Europe/Prague:20260425T141900
LOCATION:Kino Aero
END:VEVENT
END:VCALENDAR
BEGIN:VCALENDAR
PRODID:-//eluceo/ical//2.0/EN
VERSION:2.0
CALSCALE:GREGORIAN
BEGIN:VEVENT
UID:e1c8b28d96d0fd7cea856704f99910f3
DTSTAMP:20260421T165441Z
SUMMARY:Pán prstenů: Společenstvo Prstenu – prodloužená verze
DTSTART;TZID=Europe/Prague:20260425T103100
DTEND;TZID=Europe/Prague:20260425T141900
LOCATION:Kino Aero
END:VEVENT
END:VCALENDAR
