BEGIN:VCALENDAR
PRODID:-//eluceo/ical//2.0/EN
VERSION:2.0
CALSCALE:GREGORIAN
BEGIN:VEVENT
UID:e2c6d4d7a49414b1395ae0432b17eabd
DTSTAMP:20260424T030816Z
SUMMARY:Ďábel nosí Pradu 2
DTSTART;TZID=Europe/Prague:20260429T203000
DTEND;TZID=Europe/Prague:20260429T223000
LOCATION:Kino Lucerna
END:VEVENT
END:VCALENDAR
BEGIN:VCALENDAR
PRODID:-//eluceo/ical//2.0/EN
VERSION:2.0
CALSCALE:GREGORIAN
BEGIN:VEVENT
UID:45856f5efb23dbf9bae0c7f26fd60643
DTSTAMP:20260424T030816Z
SUMMARY:Ďábel nosí Pradu 2
DTSTART;TZID=Europe/Prague:20260429T203000
DTEND;TZID=Europe/Prague:20260429T223000
LOCATION:Kino Lucerna
END:VEVENT
END:VCALENDAR
