BEGIN:VCALENDAR
PRODID:-//eluceo/ical//2.0/EN
VERSION:2.0
CALSCALE:GREGORIAN
BEGIN:VEVENT
UID:4b7c1cf3213ab509806c7c74df5f8669
DTSTAMP:20260425T022041Z
SUMMARY:Na skok do divočiny
DTSTART;TZID=Europe/Prague:20260501T150000
DTEND;TZID=Europe/Prague:20260501T164500
LOCATION:Kino Aero
END:VEVENT
END:VCALENDAR
BEGIN:VCALENDAR
PRODID:-//eluceo/ical//2.0/EN
VERSION:2.0
CALSCALE:GREGORIAN
BEGIN:VEVENT
UID:d7899a828aa878424c7848b1c06cf990
DTSTAMP:20260425T022041Z
SUMMARY:Na skok do divočiny
DTSTART;TZID=Europe/Prague:20260501T150000
DTEND;TZID=Europe/Prague:20260501T164500
LOCATION:Kino Aero
END:VEVENT
END:VCALENDAR
