BEGIN:VCALENDAR
PRODID:-//eluceo/ical//2.0/EN
VERSION:2.0
CALSCALE:GREGORIAN
BEGIN:VEVENT
UID:0e3f50f8a8e94c3726acfc3c46c463a5
DTSTAMP:20260424T025840Z
SUMMARY:Nevděčné bytosti
DTSTART;TZID=Europe/Prague:20260430T133000
DTEND;TZID=Europe/Prague:20260430T152000
LOCATION:Kino Aero
END:VEVENT
END:VCALENDAR
BEGIN:VCALENDAR
PRODID:-//eluceo/ical//2.0/EN
VERSION:2.0
CALSCALE:GREGORIAN
BEGIN:VEVENT
UID:23f82bdf2c97581ba79a4ef1f47e6b30
DTSTAMP:20260424T025840Z
SUMMARY:Nevděčné bytosti
DTSTART;TZID=Europe/Prague:20260430T133000
DTEND;TZID=Europe/Prague:20260430T152000
LOCATION:Kino Aero
END:VEVENT
END:VCALENDAR
