BEGIN:VCALENDAR
PRODID:-//eluceo/ical//2.0/EN
VERSION:2.0
CALSCALE:GREGORIAN
BEGIN:VEVENT
UID:50cc7b80c199efd28200e01554566fde
DTSTAMP:20260422T020649Z
SUMMARY:Neříkejte mi dědo
DTSTART;TZID=Europe/Prague:20260428T150000
DTEND;TZID=Europe/Prague:20260428T170300
LOCATION:Kino Aero
END:VEVENT
END:VCALENDAR
BEGIN:VCALENDAR
PRODID:-//eluceo/ical//2.0/EN
VERSION:2.0
CALSCALE:GREGORIAN
BEGIN:VEVENT
UID:aa2349b71a1b479a0a3be11c655c07f6
DTSTAMP:20260422T020649Z
SUMMARY:Neříkejte mi dědo
DTSTART;TZID=Europe/Prague:20260428T150000
DTEND;TZID=Europe/Prague:20260428T170300
LOCATION:Kino Aero
END:VEVENT
END:VCALENDAR
