BEGIN:VCALENDAR
PRODID:-//eluceo/ical//2.0/EN
VERSION:2.0
CALSCALE:GREGORIAN
BEGIN:VEVENT
UID:af09f9326685103d60ab8632bb2de097
DTSTAMP:20260424T030449Z
SUMMARY:Ďábel nosí Pradu 2
DTSTART;TZID=Europe/Prague:20260430T200000
DTEND;TZID=Europe/Prague:20260430T220000
LOCATION:Bio Central
END:VEVENT
END:VCALENDAR
BEGIN:VCALENDAR
PRODID:-//eluceo/ical//2.0/EN
VERSION:2.0
CALSCALE:GREGORIAN
BEGIN:VEVENT
UID:d6893fd569c29c3da4283745e6c0eda6
DTSTAMP:20260424T030449Z
SUMMARY:Ďábel nosí Pradu 2
DTSTART;TZID=Europe/Prague:20260430T200000
DTEND;TZID=Europe/Prague:20260430T220000
LOCATION:Bio Central
END:VEVENT
END:VCALENDAR
