BEGIN:VCALENDAR
PRODID:-//eluceo/ical//2.0/EN
VERSION:2.0
CALSCALE:GREGORIAN
BEGIN:VEVENT
UID:aadff2358fb8ebdd46131914cd676408
DTSTAMP:20260425T022604Z
SUMMARY:Na skok do divočiny
DTSTART;TZID=Europe/Prague:20260516T103000
DTEND;TZID=Europe/Prague:20260516T121500
LOCATION:Bio Central
END:VEVENT
END:VCALENDAR
BEGIN:VCALENDAR
PRODID:-//eluceo/ical//2.0/EN
VERSION:2.0
CALSCALE:GREGORIAN
BEGIN:VEVENT
UID:33ecba2220875f60a10bb90b35970d96
DTSTAMP:20260425T022604Z
SUMMARY:Na skok do divočiny
DTSTART;TZID=Europe/Prague:20260516T103000
DTEND;TZID=Europe/Prague:20260516T121500
LOCATION:Bio Central
END:VEVENT
END:VCALENDAR
