BEGIN:VCALENDAR
PRODID:-//eluceo/ical//2.0/EN
VERSION:2.0
CALSCALE:GREGORIAN
BEGIN:VEVENT
UID:6ce2b951a81c1a53add03628db5e19ad
DTSTAMP:20260424T025954Z
SUMMARY:Nevděčné bytosti
DTSTART;TZID=Europe/Prague:20260427T150000
DTEND;TZID=Europe/Prague:20260427T165000
LOCATION:Bio Oko
END:VEVENT
END:VCALENDAR
BEGIN:VCALENDAR
PRODID:-//eluceo/ical//2.0/EN
VERSION:2.0
CALSCALE:GREGORIAN
BEGIN:VEVENT
UID:d1e804844f1aaf83a80423fccb28611e
DTSTAMP:20260424T025954Z
SUMMARY:Nevděčné bytosti
DTSTART;TZID=Europe/Prague:20260427T150000
DTEND;TZID=Europe/Prague:20260427T165000
LOCATION:Bio Oko
END:VEVENT
END:VCALENDAR
