BEGIN:VCALENDAR
PRODID:-//eluceo/ical//2.0/EN
VERSION:2.0
CALSCALE:GREGORIAN
BEGIN:VEVENT
UID:0f13054ac61955ff8e8756ec489a7beb
DTSTAMP:20260424T030342Z
SUMMARY:Ďábel nosí Pradu 2
DTSTART;TZID=Europe/Prague:20260501T171500
DTEND;TZID=Europe/Prague:20260501T191500
LOCATION:Kino Přítomnost
END:VEVENT
END:VCALENDAR
BEGIN:VCALENDAR
PRODID:-//eluceo/ical//2.0/EN
VERSION:2.0
CALSCALE:GREGORIAN
BEGIN:VEVENT
UID:4f11376c08b702dc03f1af32bd78775f
DTSTAMP:20260424T030342Z
SUMMARY:Ďábel nosí Pradu 2
DTSTART;TZID=Europe/Prague:20260501T171500
DTEND;TZID=Europe/Prague:20260501T191500
LOCATION:Kino Přítomnost
END:VEVENT
END:VCALENDAR
