BEGIN:VCALENDAR
PRODID:-//eluceo/ical//2.0/EN
VERSION:2.0
CALSCALE:GREGORIAN
BEGIN:VEVENT
UID:450eedc32c208d17c3e60099b2090130
DTSTAMP:20260419T210717Z
SUMMARY:Poberta
DTSTART;TZID=Europe/Prague:20260501T140000
DTEND;TZID=Europe/Prague:20260501T155800
LOCATION:Bio Central
END:VEVENT
END:VCALENDAR
BEGIN:VCALENDAR
PRODID:-//eluceo/ical//2.0/EN
VERSION:2.0
CALSCALE:GREGORIAN
BEGIN:VEVENT
UID:09ef743795c52680a6b331bb44bbf3b0
DTSTAMP:20260419T210718Z
SUMMARY:Poberta
DTSTART;TZID=Europe/Prague:20260501T140000
DTEND;TZID=Europe/Prague:20260501T155800
LOCATION:Bio Central
END:VEVENT
END:VCALENDAR
