BEGIN:VCALENDAR
PRODID:-//eluceo/ical//2.0/EN
VERSION:2.0
CALSCALE:GREGORIAN
BEGIN:VEVENT
UID:3c8f046c245bb66add3f3889cffa4a5d
DTSTAMP:20260424T025938Z
SUMMARY:Nevděčné bytosti
DTSTART;TZID=Europe/Prague:20260519T100000
DTEND;TZID=Europe/Prague:20260519T115000
LOCATION:Bio Central
END:VEVENT
END:VCALENDAR
BEGIN:VCALENDAR
PRODID:-//eluceo/ical//2.0/EN
VERSION:2.0
CALSCALE:GREGORIAN
BEGIN:VEVENT
UID:78666b7a700f5b49af37930d5b66c960
DTSTAMP:20260424T025938Z
SUMMARY:Nevděčné bytosti
DTSTART;TZID=Europe/Prague:20260519T100000
DTEND;TZID=Europe/Prague:20260519T115000
LOCATION:Bio Central
END:VEVENT
END:VCALENDAR
