BEGIN:VCALENDAR
PRODID:-//eluceo/ical//2.0/EN
VERSION:2.0
CALSCALE:GREGORIAN
BEGIN:VEVENT
UID:f366805ac588f6b9f8b3088b95ba2543
DTSTAMP:20260421T164438Z
SUMMARY:Super Mario galaktický film
DTSTART;TZID=Europe/Prague:20260426T150000
DTEND;TZID=Europe/Prague:20260426T163500
LOCATION:Kino Aero
END:VEVENT
END:VCALENDAR
BEGIN:VCALENDAR
PRODID:-//eluceo/ical//2.0/EN
VERSION:2.0
CALSCALE:GREGORIAN
BEGIN:VEVENT
UID:503343ef24d75e6a5c40974ea0b5824f
DTSTAMP:20260421T164438Z
SUMMARY:Super Mario galaktický film
DTSTART;TZID=Europe/Prague:20260426T150000
DTEND;TZID=Europe/Prague:20260426T163500
LOCATION:Kino Aero
END:VEVENT
END:VCALENDAR
