BEGIN:VCALENDAR
PRODID:-//eluceo/ical//2.0/EN
VERSION:2.0
CALSCALE:GREGORIAN
BEGIN:VEVENT
UID:40ac2de1f48412d643bb90271a3ad482
DTSTAMP:20260424T030816Z
SUMMARY:Ďábel nosí Pradu 2
DTSTART;TZID=Europe/Prague:20260504T180000
DTEND;TZID=Europe/Prague:20260504T200000
LOCATION:Kino Světozor
END:VEVENT
END:VCALENDAR
BEGIN:VCALENDAR
PRODID:-//eluceo/ical//2.0/EN
VERSION:2.0
CALSCALE:GREGORIAN
BEGIN:VEVENT
UID:64b145c6255f8b639f954e710fc41512
DTSTAMP:20260424T030816Z
SUMMARY:Ďábel nosí Pradu 2
DTSTART;TZID=Europe/Prague:20260504T180000
DTEND;TZID=Europe/Prague:20260504T200000
LOCATION:Kino Světozor
END:VEVENT
END:VCALENDAR
