BEGIN:VCALENDAR
PRODID:-//eluceo/ical//2.0/EN
VERSION:2.0
CALSCALE:GREGORIAN
BEGIN:VEVENT
UID:700088ef477bdec468a0281fb62241d3
DTSTAMP:20260424T030353Z
SUMMARY:Ďábel nosí Pradu 2
DTSTART;TZID=Europe/Prague:20260504T203000
DTEND;TZID=Europe/Prague:20260504T223000
LOCATION:Kino Světozor
END:VEVENT
END:VCALENDAR
BEGIN:VCALENDAR
PRODID:-//eluceo/ical//2.0/EN
VERSION:2.0
CALSCALE:GREGORIAN
BEGIN:VEVENT
UID:c8abcba96770dd96546edd3520ccd983
DTSTAMP:20260424T030353Z
SUMMARY:Ďábel nosí Pradu 2
DTSTART;TZID=Europe/Prague:20260504T203000
DTEND;TZID=Europe/Prague:20260504T223000
LOCATION:Kino Světozor
END:VEVENT
END:VCALENDAR
