BEGIN:VCALENDAR
PRODID:-//eluceo/ical//2.0/EN
VERSION:2.0
CALSCALE:GREGORIAN
BEGIN:VEVENT
UID:f8726434c552e06f4c1e941df20801e8
DTSTAMP:20260424T030159Z
SUMMARY:Ďábel nosí Pradu 2
DTSTART;TZID=Europe/Prague:20260506T173000
DTEND;TZID=Europe/Prague:20260506T193000
LOCATION:Kino Světozor
END:VEVENT
END:VCALENDAR
BEGIN:VCALENDAR
PRODID:-//eluceo/ical//2.0/EN
VERSION:2.0
CALSCALE:GREGORIAN
BEGIN:VEVENT
UID:f883c219a9155c1ab72abf83aadbabd3
DTSTAMP:20260424T030159Z
SUMMARY:Ďábel nosí Pradu 2
DTSTART;TZID=Europe/Prague:20260506T173000
DTEND;TZID=Europe/Prague:20260506T193000
LOCATION:Kino Světozor
END:VEVENT
END:VCALENDAR
