BEGIN:VCALENDAR
PRODID:-//eluceo/ical//2.0/EN
VERSION:2.0
CALSCALE:GREGORIAN
BEGIN:VEVENT
UID:85b20cb42d003b43f231ae17222845f4
DTSTAMP:20260421T164444Z
SUMMARY:Super Mario galaktický film
DTSTART;TZID=Europe/Prague:20260425T140000
DTEND;TZID=Europe/Prague:20260425T153500
LOCATION:Bio Oko
END:VEVENT
END:VCALENDAR
BEGIN:VCALENDAR
PRODID:-//eluceo/ical//2.0/EN
VERSION:2.0
CALSCALE:GREGORIAN
BEGIN:VEVENT
UID:739cb91492ed8999be9cd15aba4b03fc
DTSTAMP:20260421T164444Z
SUMMARY:Super Mario galaktický film
DTSTART;TZID=Europe/Prague:20260425T140000
DTEND;TZID=Europe/Prague:20260425T153500
LOCATION:Bio Oko
END:VEVENT
END:VCALENDAR
