BEGIN:VCALENDAR
PRODID:-//eluceo/ical//2.0/EN
VERSION:2.0
CALSCALE:GREGORIAN
BEGIN:VEVENT
UID:518561694826278c530e88296b06048a
DTSTAMP:20260424T030159Z
SUMMARY:Ďábel nosí Pradu 2
DTSTART;TZID=Europe/Prague:20260501T180000
DTEND;TZID=Europe/Prague:20260501T200000
LOCATION:Kino Lucerna
END:VEVENT
END:VCALENDAR
BEGIN:VCALENDAR
PRODID:-//eluceo/ical//2.0/EN
VERSION:2.0
CALSCALE:GREGORIAN
BEGIN:VEVENT
UID:ccacf565740a442aec40c1e8be626664
DTSTAMP:20260424T030159Z
SUMMARY:Ďábel nosí Pradu 2
DTSTART;TZID=Europe/Prague:20260501T180000
DTEND;TZID=Europe/Prague:20260501T200000
LOCATION:Kino Lucerna
END:VEVENT
END:VCALENDAR
