BEGIN:VCALENDAR
PRODID:-//eluceo/ical//2.0/EN
VERSION:2.0
CALSCALE:GREGORIAN
BEGIN:VEVENT
UID:3bc38f71703c18ecd737ed3924c912b8
DTSTAMP:20260424T030009Z
SUMMARY:Nevděčné bytosti
DTSTART;TZID=Europe/Prague:20260506T101500
DTEND;TZID=Europe/Prague:20260506T120500
LOCATION:Bio Central
END:VEVENT
END:VCALENDAR
BEGIN:VCALENDAR
PRODID:-//eluceo/ical//2.0/EN
VERSION:2.0
CALSCALE:GREGORIAN
BEGIN:VEVENT
UID:f225e04613e271b920186fb76aabc4e4
DTSTAMP:20260424T030009Z
SUMMARY:Nevděčné bytosti
DTSTART;TZID=Europe/Prague:20260506T101500
DTEND;TZID=Europe/Prague:20260506T120500
LOCATION:Bio Central
END:VEVENT
END:VCALENDAR
