BEGIN:VCALENDAR
PRODID:-//eluceo/ical//2.0/EN
VERSION:2.0
CALSCALE:GREGORIAN
BEGIN:VEVENT
UID:5f2939c28a7bcf2009294fd7e9a853b1
DTSTAMP:20260424T030225Z
SUMMARY:Ďábel nosí Pradu 2
DTSTART;TZID=Europe/Prague:20260505T180000
DTEND;TZID=Europe/Prague:20260505T200000
LOCATION:Kino Lucerna
END:VEVENT
END:VCALENDAR
BEGIN:VCALENDAR
PRODID:-//eluceo/ical//2.0/EN
VERSION:2.0
CALSCALE:GREGORIAN
BEGIN:VEVENT
UID:59fcb005629706ada4ca099148e13aff
DTSTAMP:20260424T030225Z
SUMMARY:Ďábel nosí Pradu 2
DTSTART;TZID=Europe/Prague:20260505T180000
DTEND;TZID=Europe/Prague:20260505T200000
LOCATION:Kino Lucerna
END:VEVENT
END:VCALENDAR
