BEGIN:VCALENDAR
PRODID:-//eluceo/ical//2.0/EN
VERSION:2.0
CALSCALE:GREGORIAN
BEGIN:VEVENT
UID:fea7bdc0114d26032538e0a0bb89ce4e
DTSTAMP:20260424T030541Z
SUMMARY:Ďábel nosí Pradu 2
DTSTART;TZID=Europe/Prague:20260502T173000
DTEND;TZID=Europe/Prague:20260502T193000
LOCATION:Kino Lucerna
END:VEVENT
END:VCALENDAR
BEGIN:VCALENDAR
PRODID:-//eluceo/ical//2.0/EN
VERSION:2.0
CALSCALE:GREGORIAN
BEGIN:VEVENT
UID:a2cf50b2f44c36f1a88049130baf5f72
DTSTAMP:20260424T030541Z
SUMMARY:Ďábel nosí Pradu 2
DTSTART;TZID=Europe/Prague:20260502T173000
DTEND;TZID=Europe/Prague:20260502T193000
LOCATION:Kino Lucerna
END:VEVENT
END:VCALENDAR
