BEGIN:VCALENDAR
PRODID:-//eluceo/ical//2.0/EN
VERSION:2.0
CALSCALE:GREGORIAN
BEGIN:VEVENT
UID:fc339763e75d54ec9f890293aacd6911
DTSTAMP:20260421T164450Z
SUMMARY:Super Mario galaktický film
DTSTART;TZID=Europe/Prague:20260425T150000
DTEND;TZID=Europe/Prague:20260425T163500
LOCATION:Bio Central
END:VEVENT
END:VCALENDAR
BEGIN:VCALENDAR
PRODID:-//eluceo/ical//2.0/EN
VERSION:2.0
CALSCALE:GREGORIAN
BEGIN:VEVENT
UID:5c1d21cc5d69f531153cb574be3e9dee
DTSTAMP:20260421T164450Z
SUMMARY:Super Mario galaktický film
DTSTART;TZID=Europe/Prague:20260425T150000
DTEND;TZID=Europe/Prague:20260425T163500
LOCATION:Bio Central
END:VEVENT
END:VCALENDAR
