BEGIN:VCALENDAR
PRODID:-//eluceo/ical//2.0/EN
VERSION:2.0
CALSCALE:GREGORIAN
BEGIN:VEVENT
UID:fa00613bd9c52395b1a116ef2d5c9c66
DTSTAMP:20260421T164634Z
SUMMARY:Super Mario galaktický film
DTSTART;TZID=Europe/Prague:20260425T130000
DTEND;TZID=Europe/Prague:20260425T143500
LOCATION:Bio Central
END:VEVENT
END:VCALENDAR
BEGIN:VCALENDAR
PRODID:-//eluceo/ical//2.0/EN
VERSION:2.0
CALSCALE:GREGORIAN
BEGIN:VEVENT
UID:17dbefccc740c4246200688e222ff8bb
DTSTAMP:20260421T164634Z
SUMMARY:Super Mario galaktický film
DTSTART;TZID=Europe/Prague:20260425T130000
DTEND;TZID=Europe/Prague:20260425T143500
LOCATION:Bio Central
END:VEVENT
END:VCALENDAR
