BEGIN:VCALENDAR
PRODID:-//eluceo/ical//2.0/EN
VERSION:2.0
CALSCALE:GREGORIAN
BEGIN:VEVENT
UID:77c00c6d3cdb7a41b6575e6b368b841b
DTSTAMP:20260421T164138Z
SUMMARY:Super Mario galaktický film
DTSTART;TZID=Europe/Prague:20260501T100000
DTEND;TZID=Europe/Prague:20260501T113500
LOCATION:Bio Oko
END:VEVENT
END:VCALENDAR
BEGIN:VCALENDAR
PRODID:-//eluceo/ical//2.0/EN
VERSION:2.0
CALSCALE:GREGORIAN
BEGIN:VEVENT
UID:a8075baed729868fe7c4033c495c6790
DTSTAMP:20260421T164138Z
SUMMARY:Super Mario galaktický film
DTSTART;TZID=Europe/Prague:20260501T100000
DTEND;TZID=Europe/Prague:20260501T113500
LOCATION:Bio Oko
END:VEVENT
END:VCALENDAR
