BEGIN:VCALENDAR
PRODID:-//eluceo/ical//2.0/EN
VERSION:2.0
CALSCALE:GREGORIAN
BEGIN:VEVENT
UID:732644079969df9ef32c9c3b49ae3dca
DTSTAMP:20260424T030654Z
SUMMARY:Ďábel nosí Pradu 2
DTSTART;TZID=Europe/Prague:20260503T171500
DTEND;TZID=Europe/Prague:20260503T191500
LOCATION:Kino Přítomnost
END:VEVENT
END:VCALENDAR
BEGIN:VCALENDAR
PRODID:-//eluceo/ical//2.0/EN
VERSION:2.0
CALSCALE:GREGORIAN
BEGIN:VEVENT
UID:8bfaaf57d4c02f8ab13755dcf8936e6e
DTSTAMP:20260424T030654Z
SUMMARY:Ďábel nosí Pradu 2
DTSTART;TZID=Europe/Prague:20260503T171500
DTEND;TZID=Europe/Prague:20260503T191500
LOCATION:Kino Přítomnost
END:VEVENT
END:VCALENDAR
