BEGIN:VCALENDAR
PRODID:-//eluceo/ical//2.0/EN
VERSION:2.0
CALSCALE:GREGORIAN
BEGIN:VEVENT
UID:3ee1c9ec0b900a7af968361d9cf2954f
DTSTAMP:20260425T022435Z
SUMMARY:Nejhorší člověk na světě
DTSTART;TZID=Europe/Prague:20260501T171500
DTEND;TZID=Europe/Prague:20260501T192400
LOCATION:Kino Aero
END:VEVENT
END:VCALENDAR
BEGIN:VCALENDAR
PRODID:-//eluceo/ical//2.0/EN
VERSION:2.0
CALSCALE:GREGORIAN
BEGIN:VEVENT
UID:d613dd4e0a6c46dd3c18bbfa23585864
DTSTAMP:20260425T022435Z
SUMMARY:Nejhorší člověk na světě
DTSTART;TZID=Europe/Prague:20260501T171500
DTEND;TZID=Europe/Prague:20260501T192400
LOCATION:Kino Aero
END:VEVENT
END:VCALENDAR
