BEGIN:VCALENDAR
PRODID:-//eluceo/ical//2.0/EN
VERSION:2.0
CALSCALE:GREGORIAN
BEGIN:VEVENT
UID:a70ea0d6f0ff6caac98161b2cfff7992
DTSTAMP:20260424T030343Z
SUMMARY:Ďábel nosí Pradu 2
DTSTART;TZID=Europe/Prague:20260508T171500
DTEND;TZID=Europe/Prague:20260508T191500
LOCATION:Univerzitní kino Scala
END:VEVENT
END:VCALENDAR
BEGIN:VCALENDAR
PRODID:-//eluceo/ical//2.0/EN
VERSION:2.0
CALSCALE:GREGORIAN
BEGIN:VEVENT
UID:2d8031bc74878b3220f1b8e71d57961b
DTSTAMP:20260424T030343Z
SUMMARY:Ďábel nosí Pradu 2
DTSTART;TZID=Europe/Prague:20260508T171500
DTEND;TZID=Europe/Prague:20260508T191500
LOCATION:Univerzitní kino Scala
END:VEVENT
END:VCALENDAR
