BEGIN:VCALENDAR
PRODID:-//eluceo/ical//2.0/EN
VERSION:2.0
CALSCALE:GREGORIAN
BEGIN:VEVENT
UID:b90279c7f5ce91efa933c4197a9244da
DTSTAMP:20260424T030710Z
SUMMARY:Ďábel nosí Pradu 2
DTSTART;TZID=Europe/Prague:20260501T153000
DTEND;TZID=Europe/Prague:20260501T173000
LOCATION:Kino Lucerna
END:VEVENT
END:VCALENDAR
BEGIN:VCALENDAR
PRODID:-//eluceo/ical//2.0/EN
VERSION:2.0
CALSCALE:GREGORIAN
BEGIN:VEVENT
UID:4f308ec9d9aa15a5b1a5b1b750c1e052
DTSTAMP:20260424T030710Z
SUMMARY:Ďábel nosí Pradu 2
DTSTART;TZID=Europe/Prague:20260501T153000
DTEND;TZID=Europe/Prague:20260501T173000
LOCATION:Kino Lucerna
END:VEVENT
END:VCALENDAR
