BEGIN:VCALENDAR
PRODID:-//eluceo/ical//2.0/EN
VERSION:2.0
CALSCALE:GREGORIAN
BEGIN:VEVENT
UID:66f7caceae5c4574b60edf832eeb97aa
DTSTAMP:20260424T030311Z
SUMMARY:Ďábel nosí Pradu 2
DTSTART;TZID=Europe/Prague:20260502T123000
DTEND;TZID=Europe/Prague:20260502T143000
LOCATION:Kino Lucerna
END:VEVENT
END:VCALENDAR
BEGIN:VCALENDAR
PRODID:-//eluceo/ical//2.0/EN
VERSION:2.0
CALSCALE:GREGORIAN
BEGIN:VEVENT
UID:5edcb8efa2c92d1cd272d13a30d8faa2
DTSTAMP:20260424T030311Z
SUMMARY:Ďábel nosí Pradu 2
DTSTART;TZID=Europe/Prague:20260502T123000
DTEND;TZID=Europe/Prague:20260502T143000
LOCATION:Kino Lucerna
END:VEVENT
END:VCALENDAR
