BEGIN:VCALENDAR
PRODID:-//eluceo/ical//2.0/EN
VERSION:2.0
CALSCALE:GREGORIAN
BEGIN:VEVENT
UID:cddf0b216a0426bcc5864430f6472124
DTSTAMP:20260424T030200Z
SUMMARY:Ďábel nosí Pradu 2
DTSTART;TZID=Europe/Prague:20260502T180000
DTEND;TZID=Europe/Prague:20260502T200000
LOCATION:Bio Central
END:VEVENT
END:VCALENDAR
BEGIN:VCALENDAR
PRODID:-//eluceo/ical//2.0/EN
VERSION:2.0
CALSCALE:GREGORIAN
BEGIN:VEVENT
UID:ac4638e9c32d8f08a3e8d17902fed0b2
DTSTAMP:20260424T030200Z
SUMMARY:Ďábel nosí Pradu 2
DTSTART;TZID=Europe/Prague:20260502T180000
DTEND;TZID=Europe/Prague:20260502T200000
LOCATION:Bio Central
END:VEVENT
END:VCALENDAR
