BEGIN:VCALENDAR
PRODID:-//eluceo/ical//2.0/EN
VERSION:2.0
CALSCALE:GREGORIAN
BEGIN:VEVENT
UID:8def63080aea8aa5f8a5ae668b2d2615
DTSTAMP:20260424T030709Z
SUMMARY:Ďábel nosí Pradu 2
DTSTART;TZID=Europe/Prague:20260503T173000
DTEND;TZID=Europe/Prague:20260503T193000
LOCATION:Bio Central
END:VEVENT
END:VCALENDAR
BEGIN:VCALENDAR
PRODID:-//eluceo/ical//2.0/EN
VERSION:2.0
CALSCALE:GREGORIAN
BEGIN:VEVENT
UID:15127b5a32e41a4b7883de9d05fddaa0
DTSTAMP:20260424T030709Z
SUMMARY:Ďábel nosí Pradu 2
DTSTART;TZID=Europe/Prague:20260503T173000
DTEND;TZID=Europe/Prague:20260503T193000
LOCATION:Bio Central
END:VEVENT
END:VCALENDAR
