BEGIN:VCALENDAR
PRODID:-//eluceo/ical//2.0/EN
VERSION:2.0
CALSCALE:GREGORIAN
BEGIN:VEVENT
UID:578101e55fe2023d17f0ba75a91793fe
DTSTAMP:20260425T021740Z
SUMMARY:Na skok do divočiny
DTSTART;TZID=Europe/Prague:20260503T144500
DTEND;TZID=Europe/Prague:20260503T163000
LOCATION:Bio Oko
END:VEVENT
END:VCALENDAR
BEGIN:VCALENDAR
PRODID:-//eluceo/ical//2.0/EN
VERSION:2.0
CALSCALE:GREGORIAN
BEGIN:VEVENT
UID:e070204ddf9b2b5de7935f2c5d6b702e
DTSTAMP:20260425T021740Z
SUMMARY:Na skok do divočiny
DTSTART;TZID=Europe/Prague:20260503T144500
DTEND;TZID=Europe/Prague:20260503T163000
LOCATION:Bio Oko
END:VEVENT
END:VCALENDAR
