BEGIN:VCALENDAR
PRODID:-//eluceo/ical//2.0/EN
VERSION:2.0
CALSCALE:GREGORIAN
BEGIN:VEVENT
UID:db1e2a2b331fa8bc53a287b90e87af86
DTSTAMP:20260424T030602Z
SUMMARY:Ďábel nosí Pradu 2
DTSTART;TZID=Europe/Prague:20260430T150000
DTEND;TZID=Europe/Prague:20260430T170000
LOCATION:Kino Světozor
END:VEVENT
END:VCALENDAR
BEGIN:VCALENDAR
PRODID:-//eluceo/ical//2.0/EN
VERSION:2.0
CALSCALE:GREGORIAN
BEGIN:VEVENT
UID:3e09cfa442d2534595b811ee15551340
DTSTAMP:20260424T030602Z
SUMMARY:Ďábel nosí Pradu 2
DTSTART;TZID=Europe/Prague:20260430T150000
DTEND;TZID=Europe/Prague:20260430T170000
LOCATION:Kino Světozor
END:VEVENT
END:VCALENDAR
