BEGIN:VCALENDAR
PRODID:-//eluceo/ical//2.0/EN
VERSION:2.0
CALSCALE:GREGORIAN
BEGIN:VEVENT
UID:433260ef67df374213f2095d0ac991c2
DTSTAMP:20260424T030245Z
SUMMARY:Ďábel nosí Pradu 2
DTSTART;TZID=Europe/Prague:20260501T123000
DTEND;TZID=Europe/Prague:20260501T143000
LOCATION:Kino Světozor
END:VEVENT
END:VCALENDAR
BEGIN:VCALENDAR
PRODID:-//eluceo/ical//2.0/EN
VERSION:2.0
CALSCALE:GREGORIAN
BEGIN:VEVENT
UID:2cebef8e2eca79ea3a55eb641752097f
DTSTAMP:20260424T030245Z
SUMMARY:Ďábel nosí Pradu 2
DTSTART;TZID=Europe/Prague:20260501T123000
DTEND;TZID=Europe/Prague:20260501T143000
LOCATION:Kino Světozor
END:VEVENT
END:VCALENDAR
