BEGIN:VCALENDAR
PRODID:-//eluceo/ical//2.0/EN
VERSION:2.0
CALSCALE:GREGORIAN
BEGIN:VEVENT
UID:1b676257e99ac5416442ec3dc33b0b98
DTSTAMP:20260424T030449Z
SUMMARY:Ďábel nosí Pradu 2
DTSTART;TZID=Europe/Prague:20260502T201500
DTEND;TZID=Europe/Prague:20260502T221500
LOCATION:Kino Aero
END:VEVENT
END:VCALENDAR
BEGIN:VCALENDAR
PRODID:-//eluceo/ical//2.0/EN
VERSION:2.0
CALSCALE:GREGORIAN
BEGIN:VEVENT
UID:26cbe0e5fbd93fea848a2b3a5a06cc81
DTSTAMP:20260424T030449Z
SUMMARY:Ďábel nosí Pradu 2
DTSTART;TZID=Europe/Prague:20260502T201500
DTEND;TZID=Europe/Prague:20260502T221500
LOCATION:Kino Aero
END:VEVENT
END:VCALENDAR
