BEGIN:VCALENDAR
PRODID:-//eluceo/ical//2.0/EN
VERSION:2.0
CALSCALE:GREGORIAN
BEGIN:VEVENT
UID:48f3618bc84f4dda797374606adedebd
DTSTAMP:20260422T090224Z
SUMMARY:Tajný agent
DTSTART;TZID=Europe/Prague:20260315T200000
DTEND;TZID=Europe/Prague:20260315T224100
LOCATION:Kino Přítomnost
END:VEVENT
END:VCALENDAR
BEGIN:VCALENDAR
PRODID:-//eluceo/ical//2.0/EN
VERSION:2.0
CALSCALE:GREGORIAN
BEGIN:VEVENT
UID:b32ed8160d22b743c0814eb6a3adac59
DTSTAMP:20260422T090224Z
SUMMARY:Tajný agent
DTSTART;TZID=Europe/Prague:20260315T200000
DTEND;TZID=Europe/Prague:20260315T224100
LOCATION:Kino Přítomnost
END:VEVENT
END:VCALENDAR
