BEGIN:VCALENDAR
PRODID:-//eluceo/ical//2.0/EN
VERSION:2.0
CALSCALE:GREGORIAN
BEGIN:VEVENT
UID:f36171e67ef80451ac8f0f9dfcf7b2aa
DTSTAMP:20260423T090929Z
SUMMARY:Ladislav Zibura – S mámou a tátou do Afriky
DTSTART;TZID=Europe/Prague:20260512T174500
DTEND;TZID=Europe/Prague:20260512T194500
LOCATION:Kino Aero
END:VEVENT
END:VCALENDAR
BEGIN:VCALENDAR
PRODID:-//eluceo/ical//2.0/EN
VERSION:2.0
CALSCALE:GREGORIAN
BEGIN:VEVENT
UID:5bf3b861224cb8fb5ad4da1a1e7c21a1
DTSTAMP:20260423T090929Z
SUMMARY:Ladislav Zibura – S mámou a tátou do Afriky
DTSTART;TZID=Europe/Prague:20260512T174500
DTEND;TZID=Europe/Prague:20260512T194500
LOCATION:Kino Aero
END:VEVENT
END:VCALENDAR
