BEGIN:VCALENDAR
PRODID:-//eluceo/ical//2.0/EN
VERSION:2.0
CALSCALE:GREGORIAN
BEGIN:VEVENT
UID:9f3cd068f25e2cb5b978a2faadd6b79c
DTSTAMP:20260421T182835Z
SUMMARY:Chicago
DTSTART;TZID=Europe/Prague:20260427T203000
DTEND;TZID=Europe/Prague:20260427T222300
LOCATION:Kino Aero
END:VEVENT
END:VCALENDAR
BEGIN:VCALENDAR
PRODID:-//eluceo/ical//2.0/EN
VERSION:2.0
CALSCALE:GREGORIAN
BEGIN:VEVENT
UID:6c7fbb6a71f25f45a1010e8be3e81a1b
DTSTAMP:20260421T182835Z
SUMMARY:Chicago
DTSTART;TZID=Europe/Prague:20260427T203000
DTEND;TZID=Europe/Prague:20260427T222300
LOCATION:Kino Aero
END:VEVENT
END:VCALENDAR
