BEGIN:VCALENDAR
PRODID:-//eluceo/ical//2.0/EN
VERSION:2.0
CALSCALE:GREGORIAN
BEGIN:VEVENT
UID:1fa19fc96c5e78cc53282a95882bec3c
DTSTAMP:20260422T090250Z
SUMMARY:Stvořeni pro lásku
DTSTART;TZID=Europe/Prague:20260423T180000
DTEND;TZID=Europe/Prague:20260423T193800
LOCATION:Kino Aero
END:VEVENT
END:VCALENDAR
BEGIN:VCALENDAR
PRODID:-//eluceo/ical//2.0/EN
VERSION:2.0
CALSCALE:GREGORIAN
BEGIN:VEVENT
UID:62dcb3073be27c37cc676868231c5fe6
DTSTAMP:20260422T090250Z
SUMMARY:Stvořeni pro lásku
DTSTART;TZID=Europe/Prague:20260423T180000
DTEND;TZID=Europe/Prague:20260423T193800
LOCATION:Kino Aero
END:VEVENT
END:VCALENDAR
