BEGIN:VCALENDAR
PRODID:-//eluceo/ical//2.0/EN
VERSION:2.0
CALSCALE:GREGORIAN
BEGIN:VEVENT
UID:0ab246fbb57d80958e71b1b605774d64
DTSTAMP:20260419T210719Z
SUMMARY:Slyšíš mě?
DTSTART;TZID=Europe/Prague:20260609T173000
DTEND;TZID=Europe/Prague:20260609T190900
LOCATION:Bio Central
END:VEVENT
END:VCALENDAR
BEGIN:VCALENDAR
PRODID:-//eluceo/ical//2.0/EN
VERSION:2.0
CALSCALE:GREGORIAN
BEGIN:VEVENT
UID:1e17dc49c061e4efa1f7b5507d84b9fa
DTSTAMP:20260419T210719Z
SUMMARY:Slyšíš mě?
DTSTART;TZID=Europe/Prague:20260609T173000
DTEND;TZID=Europe/Prague:20260609T190900
LOCATION:Bio Central
END:VEVENT
END:VCALENDAR
