BEGIN:VCALENDAR
PRODID:-//eluceo/ical//2.0/EN
VERSION:2.0
CALSCALE:GREGORIAN
BEGIN:VEVENT
UID:2a0d212fb6fc99203a70bd8d1c51d31b
DTSTAMP:20260419T210718Z
SUMMARY:Poberta
DTSTART;TZID=Europe/Prague:20260421T100000
DTEND;TZID=Europe/Prague:20260421T115800
LOCATION:Bio Oko
END:VEVENT
END:VCALENDAR
BEGIN:VCALENDAR
PRODID:-//eluceo/ical//2.0/EN
VERSION:2.0
CALSCALE:GREGORIAN
BEGIN:VEVENT
UID:340b3b6f9f0706a0694dc2bfe6e1a97d
DTSTAMP:20260419T210718Z
SUMMARY:Poberta
DTSTART;TZID=Europe/Prague:20260421T100000
DTEND;TZID=Europe/Prague:20260421T115800
LOCATION:Bio Oko
END:VEVENT
END:VCALENDAR
