BEGIN:VCALENDAR
PRODID:-//eluceo/ical//2.0/EN
VERSION:2.0
CALSCALE:GREGORIAN
BEGIN:VEVENT
UID:4c46f645a392613963ee7f8683a800fb
DTSTAMP:20260423T195824Z
SUMMARY:Ďábel nosí Pradu 2
DTSTART;TZID=Europe/Prague:20260529T130000
DTEND;TZID=Europe/Prague:20260529T150000
LOCATION:Kino Lucerna
END:VEVENT
END:VCALENDAR
BEGIN:VCALENDAR
PRODID:-//eluceo/ical//2.0/EN
VERSION:2.0
CALSCALE:GREGORIAN
BEGIN:VEVENT
UID:1a7342a02fd20462c77e277d2002bef8
DTSTAMP:20260423T195824Z
SUMMARY:Ďábel nosí Pradu 2
DTSTART;TZID=Europe/Prague:20260529T130000
DTEND;TZID=Europe/Prague:20260529T150000
LOCATION:Kino Lucerna
END:VEVENT
END:VCALENDAR
