BEGIN:VCALENDAR
PRODID:-//eluceo/ical//2.0/EN
VERSION:2.0
CALSCALE:GREGORIAN
BEGIN:VEVENT
UID:e0cf4ebce6c075c7ad8543bb17858d53
DTSTAMP:20260423T195932Z
SUMMARY:Ďábel nosí Pradu 2
DTSTART;TZID=Europe/Prague:20260529T150000
DTEND;TZID=Europe/Prague:20260529T170000
LOCATION:Kino Světozor
END:VEVENT
END:VCALENDAR
BEGIN:VCALENDAR
PRODID:-//eluceo/ical//2.0/EN
VERSION:2.0
CALSCALE:GREGORIAN
BEGIN:VEVENT
UID:149960c586f9c298570fbda50cb60707
DTSTAMP:20260423T195932Z
SUMMARY:Ďábel nosí Pradu 2
DTSTART;TZID=Europe/Prague:20260529T150000
DTEND;TZID=Europe/Prague:20260529T170000
LOCATION:Kino Světozor
END:VEVENT
END:VCALENDAR
