BEGIN:VCALENDAR
PRODID:-//eluceo/ical//2.0/EN
VERSION:2.0
CALSCALE:GREGORIAN
BEGIN:VEVENT
UID:ba56f5e6ee88120c3905f305860d9e8e
DTSTAMP:20260423T200120Z
SUMMARY:Ďábel nosí Pradu 2
DTSTART;TZID=Europe/Prague:20260501T174500
DTEND;TZID=Europe/Prague:20260501T194500
LOCATION:Kino Světozor
END:VEVENT
END:VCALENDAR
BEGIN:VCALENDAR
PRODID:-//eluceo/ical//2.0/EN
VERSION:2.0
CALSCALE:GREGORIAN
BEGIN:VEVENT
UID:f2f0c7434ade35e04c61cdb0130b031f
DTSTAMP:20260423T200120Z
SUMMARY:Ďábel nosí Pradu 2
DTSTART;TZID=Europe/Prague:20260501T174500
DTEND;TZID=Europe/Prague:20260501T194500
LOCATION:Kino Světozor
END:VEVENT
END:VCALENDAR
