BEGIN:VCALENDAR
PRODID:-//eluceo/ical//2.0/EN
VERSION:2.0
CALSCALE:GREGORIAN
BEGIN:VEVENT
UID:f92900faccd51733be48eff4fda7e28a
DTSTAMP:20260423T200357Z
SUMMARY:Ďábel nosí Pradu 2
DTSTART;TZID=Europe/Prague:20260503T180000
DTEND;TZID=Europe/Prague:20260503T200000
LOCATION:Kino Světozor
END:VEVENT
END:VCALENDAR
BEGIN:VCALENDAR
PRODID:-//eluceo/ical//2.0/EN
VERSION:2.0
CALSCALE:GREGORIAN
BEGIN:VEVENT
UID:0d90398b6ff8491e3ef540addc483254
DTSTAMP:20260423T200357Z
SUMMARY:Ďábel nosí Pradu 2
DTSTART;TZID=Europe/Prague:20260503T180000
DTEND;TZID=Europe/Prague:20260503T200000
LOCATION:Kino Světozor
END:VEVENT
END:VCALENDAR
