BEGIN:VCALENDAR
PRODID:-//eluceo/ical//2.0/EN
VERSION:2.0
CALSCALE:GREGORIAN
BEGIN:VEVENT
UID:3f37615498778cebdb9cccf2f71557ce
DTSTAMP:20260422T090520Z
SUMMARY:Šťastni spolu
DTSTART;TZID=Europe/Prague:20260428T180000
DTEND;TZID=Europe/Prague:20260428T193600
LOCATION:Bio Oko
END:VEVENT
END:VCALENDAR
BEGIN:VCALENDAR
PRODID:-//eluceo/ical//2.0/EN
VERSION:2.0
CALSCALE:GREGORIAN
BEGIN:VEVENT
UID:1abb16dfeac127754ecd55b28fa03024
DTSTAMP:20260422T090520Z
SUMMARY:Šťastni spolu
DTSTART;TZID=Europe/Prague:20260428T180000
DTEND;TZID=Europe/Prague:20260428T193600
LOCATION:Bio Oko
END:VEVENT
END:VCALENDAR
